BEGIN:VCALENDAR
VERSION:2.0
PRODID:-//Aikido Dento Iwama Ryu - Italia - ECPv6.15.11//NONSGML v1.0//EN
CALSCALE:GREGORIAN
METHOD:PUBLISH
X-WR-CALNAME:Aikido Dento Iwama Ryu - Italia
X-ORIGINAL-URL:https://aikidodentoiwamaryu.com
X-WR-CALDESC:Eventi per Aikido Dento Iwama Ryu - Italia
REFRESH-INTERVAL;VALUE=DURATION:PT1H
X-Robots-Tag:noindex
X-PUBLISHED-TTL:PT1H
BEGIN:VTIMEZONE
TZID:Europe/Rome
BEGIN:DAYLIGHT
TZOFFSETFROM:+0100
TZOFFSETTO:+0200
TZNAME:CEST
DTSTART:20240331T010000
END:DAYLIGHT
BEGIN:STANDARD
TZOFFSETFROM:+0200
TZOFFSETTO:+0100
TZNAME:CET
DTSTART:20241027T010000
END:STANDARD
BEGIN:DAYLIGHT
TZOFFSETFROM:+0100
TZOFFSETTO:+0200
TZNAME:CEST
DTSTART:20250330T010000
END:DAYLIGHT
BEGIN:STANDARD
TZOFFSETFROM:+0200
TZOFFSETTO:+0100
TZNAME:CET
DTSTART:20251026T010000
END:STANDARD
BEGIN:DAYLIGHT
TZOFFSETFROM:+0100
TZOFFSETTO:+0200
TZNAME:CEST
DTSTART:20260329T010000
END:DAYLIGHT
BEGIN:STANDARD
TZOFFSETFROM:+0200
TZOFFSETTO:+0100
TZNAME:CET
DTSTART:20261025T010000
END:STANDARD
END:VTIMEZONE
BEGIN:VEVENT
DTSTART;TZID=Europe/Rome:20250621T093000
DTEND;TZID=Europe/Rome:20250622T124500
DTSTAMP:20260424T131741
CREATED:20250131T223005Z
LAST-MODIFIED:20250529T183121Z
UID:2344-1750498200-1750596300@aikidodentoiwamaryu.com
SUMMARY:Aikido Koshukai - Volker Hochwald Shihan 6° dan Iwama Shin Shin Aiki Shurenkai - Modica (RG) - 21 e 22 Giugno
DESCRIPTION:Form di registrazione / Registration form\n					\n					\n				\n								\n				\n					\n				\n		\n					\n				\n				\n									Sabato / Saturday								\n				\n		\n					\n				\n				\n									Mattina / Morning Registrazione / Registration 08:30 – 09:00 Keiko I 09:30 – 11:00 Keiko II 11:15 – 12:45 								\n				\n				\n				\n									Pomeriggio / Afternoon Registrazione / Registration 14:00 – 14:30 Keiko III 15:00 – 16:30 Keiko IV 16:45 – 18:15 								\n				\n					\n				\n					\n				\n		\n					\n				\n				\n									Party Sabato sera / Party Saturday night*** Prenotazione valida se effettuata entro il 15 Giugno 2025. ****** Reservation valid if made by June 15\, 2025. ***								\n				\n					\n				\n		\n					\n				\n				\n									Domenica / Sunday								\n				\n		\n					\n				\n				\n									Mattina / Morning Registrazione / Registration 8:30 – 9:00 Keiko V 9:30 – 11:00 Keiko VI 11:15 – 12:45 								\n				\n					\n				\n				\n				\n									InfoEvento aperto a tutti i praticanti di aikido purchè regolarmente assicurati. Portare le proprie armi (jo\, bokken\, tanto) per le sessioni di buki waza e le scarpe da ginnastica. Event open to all aikido practitioners as long as they are regularly insured.Bring your own weapons (jo\, bokken\, tanto) for buki waza sessions and sneakers. 								\n				\n				\n				\n									Volker Hochwald – Biografia di Aikido\nVolker Hochwald è nato nel 1971 e ha iniziato a praticare Aikido nel 1986\, da adolescente\, in un club sportivo affiliato alla Federazione Tedesca di Aikido. Nel 1997 ha conseguito il suo Nidan (2º Dan) in questo stile.Spinto da un profondo interesse per le radici dell’Aikido e per la cultura giapponese\, all’inizio del 1998 Volker si è unito a un dojo Iwama-Ryū a Tübingen. Nel maggio dello stesso anno ha incontrato per la prima volta il Sensei Morihiro Saito durante un seminario a Roma\, in Italia. Profondamente colpito dagli insegnamenti di Saito Sensei\, Volker si è recato a Iwama nel dicembre 1998 per un soggiorno di un mese e ha continuato a visitare regolarmente Iwama in seguito.Nel settembre 2000 Volker ha sostenuto l’esame e ha ottenuto il Sandan (3º Dan) da Morihiro Saito Sensei a Iwama.Insieme alla sua ormai ex moglie Franziska\, Volker ha fondato un dojo a Stoccarda nel 1999. Dopo la scomparsa di Morihiro Saito Sensei\, Volker ha dimostrato il suo sostegno nei confronti di Hitohira Saito Sensei invitandolo a tenere un seminario a Korntal già nel 2003. Nello stesso anno\, Volker e Franziska hanno aperto un nuovo dojo a Korntal\, nei pressi di Stoccarda\, realizzando un sogno a lungo coltivato: il dojo era situato all’interno della loro abitazione.Volker ha continuato i suoi regolari viaggi di allenamento a Iwama e nel 2005 ha superato l’esame per il Yondan (4º Dan) sotto la guida di Hitohira Saito Sensei. Nel 2008 ha deciso di lasciare il lavoro di ingegnere per dedicarsi a tempo pieno all’insegnamento professionale dell’Aikido.Nel 2013 gli è stato conferito il Godan (5º Dan) da Hitohira Saito Sensei durante un seminario\, e nel 2019 ha ottenuto il grado di Rokudan (6º Dan\, Shihan) in un seminario a Rennes\, in Francia\, insieme al suo stimato amico e compagno di pratica Stefano Di Carlo\, con cui condivide una lunga amicizia e esperienze di insegnamento congiunto.Volker Hochwald è oggi il rappresentante ufficiale dell’Iwama Shin Shin Aiki Shurenkai in Germania e conduce seminari in tutta Europa. Nel corso degli anni è tornato a Iwama più di 30 volte per allenamenti e studi intensivi. 								\n				\n				\n				\n									Contatti / Contactemail: aikidodentoiwamaryumodica@gmail.com phone: ‭+39 393 91 81 183‬
URL:https://aikidodentoiwamaryu.com/evento/aikido-koshukai-volker-hochwald-shihan-6-dan-iwama-shin-shin-aiki-shurenkai-modica-rg-21-e-22-giugno/
LOCATION:AIRONE LAB – Modica\, Via Rocciola Scrofani\, 35\, Modica\, RG\, 97015\, Italy
CATEGORIES:Koshukai internazionale
ATTACH;FMTTYPE=image/jpeg:https://aikidodentoiwamaryu.com/wp-content/uploads/2025/01/Aikido-Koshukai-Volker-Hochwald-Shihan-6°-dan-Iwama-Shin-Shin-Aiki-Shurenkai-Modica-RG-21-e-22-Giugno.jpg
ORGANIZER;CN="Modica (Ragusa)%3A  'Aikido Dento Iwama Ryu Modica'":MAILTO:peppe.doria@gmail.com
END:VEVENT
END:VCALENDAR